BEGIN:VCALENDAR
VERSION:2.0
CALSCALE:GREGORIAN
PRODID:adamgibbons/ics
METHOD:PUBLISH
X-PUBLISHED-TTL:PT1H
BEGIN:VEVENT
UID:2930@events.kassel.social
SUMMARY:Vladimir Nabakov - Pnin
DTSTAMP:20260422T001229Z
DTSTART:20260424T083000Z
DTEND:20260424T101500Z
URL:https://events.kassel.social/event/vladimir-nabakov-pnin
GEO:49.40777835;8.693909573706275
LOCATION:Deutsch-Amerikanisches Institut - 12 Sofienstraße\, Heidelberg\, B
	aden-Württemberg\, Germany
STATUS:CONFIRMED
CATEGORIES:books-1,book-club-1,bookclub-1,book-group,books,book-club,bookcl
	ub
END:VEVENT
BEGIN:VEVENT
UID:4202@events.kassel.social
SUMMARY:On the Calculation of Volume I - Solvej Balle
DTSTAMP:20260422T001229Z
DTSTART:20260521T170000Z
DTEND:20260521T190000Z
URL:https://events.kassel.social/event/on-the-calculation-of-volume-i-solve
	j-balle
GEO:49.4235657;8.6884965
LOCATION:La Locanda 26 - Steubenstraße\, Heidelberg\, Baden-Württemberg\, G
	ermany
STATUS:CONFIRMED
CATEGORIES:bookclub,books,Heidelberg,book club
END:VEVENT
END:VCALENDAR
