BEGIN:VCALENDAR
VERSION:2.0
CALSCALE:GREGORIAN
PRODID:adamgibbons/ics
METHOD:PUBLISH
X-PUBLISHED-TTL:PT1H
BEGIN:VEVENT
UID:4193@events.kassel.social
SUMMARY:Würzburger Weihnachtsmarkt
DTSTAMP:20260419T155342Z
DTSTART:20261126T230000Z
DTEND:20261222T230000Z
URL:https://events.kassel.social/event/wurzburger-weihnachtsmarkt
GEO:49.79452508720118;9.928821927385503
LOCATION:Marktplatz - Würzburg\, Bayern\, Deutschland
STATUS:CONFIRMED
CATEGORIES:advent,weihnachten
END:VEVENT
END:VCALENDAR
