BEGIN:VCALENDAR
VERSION:2.0
CALSCALE:GREGORIAN
PRODID:adamgibbons/ics
METHOD:PUBLISH
X-PUBLISHED-TTL:PT1H
BEGIN:VEVENT
UID:4207@events.kassel.social
SUMMARY:Richard Adams - Watership Down
DTSTAMP:20260424T210814Z
DTSTART:20260529T083000Z
DTEND:20260529T100000Z
URL:https://events.kassel.social/event/richard-adams-watership-down
GEO:49.4132849;8.6932346
LOCATION:Uferstraße - Uferstraße\, Heidelberg\, Baden-Württemberg\, Germany
STATUS:CONFIRMED
CATEGORIES:book club,books,bookclub,Reading
END:VEVENT
END:VCALENDAR
