BEGIN:VCALENDAR
VERSION:2.0
CALSCALE:GREGORIAN
PRODID:adamgibbons/ics
METHOD:PUBLISH
X-PUBLISHED-TTL:PT1H
BEGIN:VEVENT
UID:4204@events.kassel.social
SUMMARY:Synergie - Tanz in den Mai
DTSTAMP:20260423T044856Z
DTSTART:20260430T160000Z
DTEND:20260501T060000Z
URL:https://events.kassel.social/event/synergie-tanz-in-den-mai
LOCATION:Club Graf Karl - Leipziger Straße 407 34123 Kassel
STATUS:CONFIRMED
CATEGORIES:kassel,club,trance,techno,musik,tanz
END:VEVENT
END:VCALENDAR
