BEGIN:VCALENDAR
VERSION:2.0
CALSCALE:GREGORIAN
PRODID:adamgibbons/ics
METHOD:PUBLISH
X-PUBLISHED-TTL:PT1H
BEGIN:VEVENT
UID:4198@events.kassel.social
SUMMARY:Sonic Poison + Unearthly Rites
DTSTAMP:20260420T223729Z
DTSTART:20260429T180000Z
DTEND:20260429T215500Z
URL:https://events.kassel.social/event/sonic-poison-unearthly-rites
LOCATION:Köpi - ask a punk
STATUS:CONFIRMED
CATEGORIES:diy,berlin,Death Metal // Grindcore // Finland
END:VEVENT
END:VCALENDAR
