BEGIN:VCALENDAR
VERSION:2.0
CALSCALE:GREGORIAN
PRODID:adamgibbons/ics
METHOD:PUBLISH
X-PUBLISHED-TTL:PT1H
BEGIN:VEVENT
UID:4194@events.kassel.social
SUMMARY:SuperCheri + Garrrot
DTSTAMP:20260419T173001Z
DTSTART:20260425T070000Z
DTEND:20260425T095500Z
URL:https://events.kassel.social/event/supercheri-garrrot
LOCATION:Grüner Salon Volksbühne - Linienstraße 227\, 10178 Berlin
STATUS:CONFIRMED
CATEGORIES:punk,post-punk,diy,berlin
END:VEVENT
END:VCALENDAR
