BEGIN:VCALENDAR
VERSION:2.0
CALSCALE:GREGORIAN
PRODID:adamgibbons/ics
METHOD:PUBLISH
X-PUBLISHED-TTL:PT1H
BEGIN:VEVENT
UID:3727@events.kassel.social
SUMMARY:Krefelder Jazz-Quartett im Landschaftspark
DTSTAMP:20260419T135405Z
DTSTART:20260510T120000Z
DTEND:20260510T140000Z
URL:https://events.kassel.social/event/krefelder-jazz-quartett-im-landschaf
	tspark
LOCATION:Landschaftspark Heilmannshof - Maria-Sohmann-Str. 93\, 47802 Krefe
	ld-Traar
STATUS:CONFIRMED
CATEGORIES:KREFELD,musik
END:VEVENT
END:VCALENDAR
