BEGIN:VCALENDAR
VERSION:2.0
CALSCALE:GREGORIAN
PRODID:adamgibbons/ics
METHOD:PUBLISH
X-PUBLISHED-TTL:PT1H
BEGIN:VEVENT
UID:1819@events.kassel.social
SUMMARY:Kiliani-Volksfest
DTSTAMP:20260420T041921Z
DTSTART:20260702T220000Z
DTEND:20260719T120000Z
URL:https://events.kassel.social/event/kiliani-volksfest
GEO:49.79820719481081;9.918418597435227
LOCATION:Talavera - Würzburg\, Bayern\, Deutschland
STATUS:CONFIRMED
CATEGORIES:
END:VEVENT
END:VCALENDAR
