BEGIN:VCALENDAR
VERSION:2.0
CALSCALE:GREGORIAN
PRODID:adamgibbons/ics
METHOD:PUBLISH
X-PUBLISHED-TTL:PT1H
BEGIN:VEVENT
UID:3588@events.kassel.social
SUMMARY:Die kleine Kuscheltierhexe (UA)
DTSTAMP:20260419T135017Z
DTSTART:20260419T140000Z
DTEND:20260419T144000Z
URL:https://events.kassel.social/event/die-kleine-kuscheltierhexe-ua
LOCATION:Studiobühne II - Virchowstraße 130\, 47805 Krefeld
STATUS:CONFIRMED
CATEGORIES:Party,Theater,KREFELD
END:VEVENT
BEGIN:VEVENT
UID:3631@events.kassel.social
SUMMARY:Da geht doch noch was!! Geschichte aus einer Seniorenresidenz
DTSTAMP:20260419T135017Z
DTSTART:20260425T160000Z
DTEND:20260425T171500Z
URL:https://events.kassel.social/event/da-geht-doch-noch-was-geschichte-aus
	-einer-seniorenresidenz
LOCATION:Studiobühne II - Virchowstraße 130\, 47805 Krefeld
STATUS:CONFIRMED
CATEGORIES:KREFELD
END:VEVENT
BEGIN:VEVENT
UID:3636@events.kassel.social
SUMMARY:Da geht doch noch was!! Geschichte aus einer Seniorenresidenz
DTSTAMP:20260419T135017Z
DTSTART:20260426T160000Z
DTEND:20260426T171500Z
URL:https://events.kassel.social/event/da-geht-doch-noch-was-geschichte-aus
	-einer-seniorenresidenz-1
LOCATION:Studiobühne II - Virchowstraße 130\, 47805 Krefeld
STATUS:CONFIRMED
CATEGORIES:KREFELD
END:VEVENT
BEGIN:VEVENT
UID:3647@events.kassel.social
SUMMARY:All das Schöne
DTSTAMP:20260419T135017Z
DTSTART:20260428T170000Z
DTEND:20260428T180000Z
URL:https://events.kassel.social/event/all-das-schone
LOCATION:Studiobühne II - Virchowstraße 130\, 47805 Krefeld
STATUS:CONFIRMED
CATEGORIES:KREFELD
END:VEVENT
BEGIN:VEVENT
UID:3734@events.kassel.social
SUMMARY:Hexenschule - Heia Walpurgisnacht!
DTSTAMP:20260419T135017Z
DTSTART:20260516T150000Z
DTEND:20260516T154500Z
URL:https://events.kassel.social/event/hexenschule-heia-walpurgisnacht
LOCATION:Studiobühne II - Virchowstraße 130\, 47805 Krefeld
STATUS:CONFIRMED
CATEGORIES:musik,KREFELD,tanz
END:VEVENT
BEGIN:VEVENT
UID:3739@events.kassel.social
SUMMARY:Hexenschule - Heia Walpurgisnacht!
DTSTAMP:20260419T135017Z
DTSTART:20260517T150000Z
DTEND:20260517T154500Z
URL:https://events.kassel.social/event/hexenschule-heia-walpurgisnacht-1
LOCATION:Studiobühne II - Virchowstraße 130\, 47805 Krefeld
STATUS:CONFIRMED
CATEGORIES:tanz,musik,KREFELD
END:VEVENT
BEGIN:VEVENT
UID:3850@events.kassel.social
SUMMARY:Little Women
DTSTAMP:20260419T135017Z
DTSTART:20260614T170000Z
DTEND:20260614T182000Z
URL:https://events.kassel.social/event/little-women
LOCATION:Studiobühne II - Virchowstraße 130\, 47805 Krefeld
STATUS:CONFIRMED
CATEGORIES:Theater,KREFELD
END:VEVENT
BEGIN:VEVENT
UID:3863@events.kassel.social
SUMMARY:Little Women
DTSTAMP:20260419T135017Z
DTSTART:20260617T170000Z
DTEND:20260617T182000Z
URL:https://events.kassel.social/event/little-women-1
LOCATION:Studiobühne II - Virchowstraße 130\, 47805 Krefeld
STATUS:CONFIRMED
CATEGORIES:Theater,KREFELD
END:VEVENT
BEGIN:VEVENT
UID:3875@events.kassel.social
SUMMARY:Little Women
DTSTAMP:20260419T135017Z
DTSTART:20260619T170000Z
DTEND:20260619T182000Z
URL:https://events.kassel.social/event/little-women-2
LOCATION:Studiobühne II - Virchowstraße 130\, 47805 Krefeld
STATUS:CONFIRMED
CATEGORIES:Theater,KREFELD
END:VEVENT
BEGIN:VEVENT
UID:3886@events.kassel.social
SUMMARY:Dschungel
DTSTAMP:20260419T135017Z
DTSTART:20260627T150000Z
DTEND:20260627T161000Z
URL:https://events.kassel.social/event/dschungel
LOCATION:Studiobühne II - Virchowstraße 130\, 47805 Krefeld
STATUS:CONFIRMED
CATEGORIES:musik,Theater,KREFELD
END:VEVENT
BEGIN:VEVENT
UID:3892@events.kassel.social
SUMMARY:Dschungel
DTSTAMP:20260419T135017Z
DTSTART:20260628T150000Z
DTEND:20260628T161000Z
URL:https://events.kassel.social/event/dschungel-1
LOCATION:Studiobühne II - Virchowstraße 130\, 47805 Krefeld
STATUS:CONFIRMED
CATEGORIES:musik,KREFELD,Theater
END:VEVENT
BEGIN:VEVENT
UID:4066@events.kassel.social
SUMMARY:Pippi Langstrumpf
DTSTAMP:20260419T135017Z
DTSTART:20270304T093000Z
DTEND:20270304T104000Z
URL:https://events.kassel.social/event/pippi-langstrumpf
LOCATION:Studiobühne II - Virchowstraße 130\, 47805 Krefeld
STATUS:CONFIRMED
CATEGORIES:KREFELD
END:VEVENT
END:VCALENDAR
