BEGIN:VCALENDAR
VERSION:2.0
CALSCALE:GREGORIAN
PRODID:adamgibbons/ics
METHOD:PUBLISH
X-PUBLISHED-TTL:PT1H
BEGIN:VEVENT
UID:4206@events.kassel.social
SUMMARY:ZUMobil beim Aktionstag „E-Mobilität“ in Kirchheim
DTSTAMP:20260424T162642Z
DTSTART:20260426T080000Z
DTEND:20260426T153000Z
DESCRIPTION:Ganz bewusst aufs eigene Auto verzichten und dabei persönliche 
	Bedürfnisse und\nden Spaßfaktor nicht außer Acht lassen? Das geht! Ob zum 
	Carsharing\, zum\nRadfahren oder zum öffentlichen Nahverkehr\, das ZUMobil
	 informiert zu\numweltbewusster Mobilität in Heidelberg!\n\nAm Sonntag\, d
	en 26. April\, ist das ZUMobil mit seinem Beratungsstand von 10 bis\n17:30
	 Uhr beim Aktionstag „Elektromobilität“ auf dem Verkehrsübungsplatz\,\nPle
	ikartsförster Straße 114\, in Kirchheim.\n\nIhr könnt mit unserem elektrob
	etriebenen Lastenrad  eine Proberunde auf dem\nPlatz drehen oder am Glücks
	rad euer Wissen zu Mobilität testen. Wir freuen uns\nauf euren Besuch und 
	eure Fragen!\n\nVeranstalter des Aktionstags sind der Motorsportclub Kirch
	heim und die\nFreiwillige Feuerwehr. E-Fahrzeuge aller Art sollen gezeigt 
	werden! Für Kinder\ngibt es ein vielseitiges Angebot\, u. a. eine Hüpfburg
	.\n\nInfos zum Programm: https://www.msc-heidelberg-kirchheim.de/\n[https:
	//www.msc-heidelberg-kirchheim.de/]\n\nDas ZUMobil – die mobile Beratung d
	es Zentrums für umweltbewusste Mobilität\n(ZUM) – bringt die unabhängige u
	nd kostenlose Beratung des ZUMs in Form eines\nInfostands in die verschied
	enen Stadtteile Heidelbergs. Getragen wird das\nZUMobil – wie das ZUM – vo
	n den drei Vereinen Ökostadt Rhein-Neckar\, ADFC\nRhein-Neckar und VCD Rhe
	in-Neckar.\n\nZu was wir konkret beraten? Hier ein kleiner Auszug aus unse
	rem breiten\nThemenspektrum:\n\n•         Infos zu stadtmobil Rhein-Neckar
	\n\n•         Beratung zum Pedelec-Kauf\n\n•         Informationen zum Car
	sharing zwischen Privatpersonen\n\n•         Info und Verkauf von Frauen-N
	achttaxi-Scheinen\n\n•         Kostenloser Lastenrad- und Pedelec-Verleih 
	im ZUM und weitere\nkostenlose Angebote\n\n•         Kostenlose Reparatura
	ngebote für Fahrräder in Heidelberg\n\n•         Erstinformationen zum Kau
	f von Pedelecs\n\n•         Weitere Tipps und Infos rund ums Rad: VRNnextb
	ike\, Fahrradverleih und\n-verkauf in Heidelberg\, Bezugsquellen für gebra
	uchte Fahrräder\, Infos zum\nRadfahren mit Kindern\, Radlernkurse in der U
	mgebung usw.\n\n•         Basisinformationen zu Tarifen & Angeboten des öf
	fentlichen Nahverkehrs\n\n•         Ratschläge zu Mobilitäts-Apps (für ÖPN
	V und für Radtouren)\n\nWeitere Informationen auf unserer Webseite: www.zu
	m-hd.de/zumobil\n[http://www.zum-hd.de/zumobil]\n\nWICHTIGER HINWEIS: Ein 
	Termin kann krankheits- oder wetterbedingt auch einmal\nentfallen. Bitte s
	chaut am Tag der Veranstaltung nochmal auf die ZUM-Website\n(https://www.z
	um-hd.de/ [https://www.zum-hd.de/]). Danke für euer Verständnis!
URL:https://events.kassel.social/event/zumobil-beim-aktionstag-e-mobilitat-
	in-kirchheim
GEO:49.38606395;8.663523994714877
LOCATION:Verkehrsübungsplatz Heidelberg-Kirchheim - Pleikartsförster Straße
	\, Heidelberg\, Baden-Württemberg\, Deutschland
STATUS:CONFIRMED
CATEGORIES:E-Mobilität,Carsharing,Pedelec,Stadtmobil,Beratung
X-ALT-DESC;FMTTYPE=text/html:<p>Ganz bewusst aufs eigene Auto verzichten un
	d dabei persönliche Bedürfnisse und den Spaßfaktor nicht außer Acht lassen
	? Das geht! Ob zum Carsharing, zum Radfahren oder zum öffentlichen Nahverk
	ehr, das ZUMobil informiert zu umweltbewusster Mobilität in Heidelberg!</p
	><p>Am Sonntag, den 26. April, ist das ZUMobil mit seinem Beratungsstand v
	on 10 bis 17:30 Uhr beim Aktionstag „Elektromobilität“ auf dem Verkehrsübu
	ngsplatz, Pleikartsförster Straße 114, in Kirchheim.</p><p>Ihr könnt mit u
	nserem elektrobetriebenen Lastenrad &nbsp;eine Proberunde auf dem Platz dr
	ehen oder am Glücksrad euer Wissen zu Mobilität testen. Wir freuen uns auf
	 euren Besuch und eure Fragen!</p><p>Veranstalter des Aktionstags sind der
	 Motorsportclub Kirchheim und die Freiwillige Feuerwehr. E-Fahrzeuge aller
	 Art sollen gezeigt werden! Für Kinder gibt es ein vielseitiges Angebot, u
	. a. eine Hüpfburg.</p><p>Infos zum Programm: <a target="_blank" href="htt
	ps://www.msc-heidelberg-kirchheim.de/">https://www.msc-heidelberg-kirchhei
	m.de/</a></p><p>Das ZUMobil – die mobile Beratung des Zentrums für umweltb
	ewusste Mobilität (ZUM) – bringt die unabhängige und kostenlose Beratung d
	es ZUMs in Form eines Infostands in die verschiedenen Stadtteile Heidelber
	gs. Getragen wird das ZUMobil – wie das ZUM – von den drei Vereinen Ökosta
	dt Rhein-Neckar, ADFC Rhein-Neckar und VCD Rhein-Neckar.</p><p>Zu was wir 
	konkret beraten? Hier ein kleiner Auszug aus unserem breiten Themenspektru
	m:</p><p>•&nbsp;&nbsp;&nbsp;&nbsp;&nbsp;&nbsp;&nbsp;&nbsp; Infos zu stadtm
	obil Rhein-Neckar</p><p>•&nbsp;&nbsp;&nbsp;&nbsp;&nbsp;&nbsp;&nbsp;&nbsp; 
	Beratung zum Pedelec-Kauf</p><p>•&nbsp;&nbsp;&nbsp;&nbsp;&nbsp;&nbsp;&nbsp
	;&nbsp; Informationen zum Carsharing zwischen Privatpersonen</p><p>•&nbsp;
	&nbsp;&nbsp;&nbsp;&nbsp;&nbsp;&nbsp;&nbsp; Info und Verkauf von Frauen-Nac
	httaxi-Scheinen</p><p>•&nbsp;&nbsp;&nbsp;&nbsp;&nbsp;&nbsp;&nbsp;&nbsp; Ko
	stenloser Lastenrad- und Pedelec-Verleih im ZUM und weitere kostenlose Ang
	ebote</p><p>•&nbsp;&nbsp;&nbsp;&nbsp;&nbsp;&nbsp;&nbsp;&nbsp; Kostenlose R
	eparaturangebote für Fahrräder in Heidelberg</p><p>•&nbsp;&nbsp;&nbsp;&nbs
	p;&nbsp;&nbsp;&nbsp;&nbsp; Erstinformationen zum Kauf von Pedelecs</p><p>•
	&nbsp;&nbsp;&nbsp;&nbsp;&nbsp;&nbsp;&nbsp;&nbsp; Weitere Tipps und Infos r
	und ums Rad: VRNnextbike, Fahrradverleih und -verkauf in Heidelberg, Bezug
	squellen für gebrauchte Fahrräder, Infos zum Radfahren mit Kindern, Radler
	nkurse in der Umgebung usw.</p><p>•&nbsp;&nbsp;&nbsp;&nbsp;&nbsp;&nbsp;&nb
	sp;&nbsp; Basisinformationen zu Tarifen &amp; Angeboten des öffentlichen N
	ahverkehrs</p><p>•&nbsp;&nbsp;&nbsp;&nbsp;&nbsp;&nbsp;&nbsp;&nbsp; Ratschl
	äge zu Mobilitäts-Apps (für ÖPNV und für Radtouren)</p><p>Weitere Informat
	ionen auf unserer Webseite: <a target="_blank" href="http://www.zum-hd.de/
	zumobil">www.zum-hd.de/zumobil</a></p><p>WICHTIGER HINWEIS: Ein Termin kan
	n krankheits- oder wetterbedingt auch einmal entfallen. Bitte schaut am Ta
	g der Veranstaltung nochmal auf die ZUM-Website (<a target="_blank" href="
	https://www.zum-hd.de/">https://www.zum-hd.de/</a>). Danke für euer Verstä
	ndnis!</p>
BEGIN:VALARM
ACTION:DISPLAY
DESCRIPTION:ZUMobil beim Aktionstag „E-Mobilität“ in Kirchheim
TRIGGER:-PT1H
END:VALARM
END:VEVENT
END:VCALENDAR
