BEGIN:VCALENDAR
VERSION:2.0
CALSCALE:GREGORIAN
PRODID:adamgibbons/ics
METHOD:PUBLISH
X-PUBLISHED-TTL:PT1H
BEGIN:VEVENT
UID:4195@events.kassel.social
SUMMARY:STERBEN + MARKxFASTER + SHIMMER
DTSTAMP:20260419T154325Z
DTSTART:20260508T190000Z
DTEND:20260509T000000Z
DESCRIPTION:Formed in a mysterious\, dark and magical night in one of Berli
	n‘s many crypts\,\nthis idea was born: We have to reclaim the crypts that 
	were taken away from us!\nSo many of our vaults have already been evicted 
	and stolen by relentless brutal\nforces. The ones that are left shall not 
	remain in the hands of shady men! The\nwitches strike back! May their cove
	n thrive and find many more fellow witches.\n\nFor this enchanted gatherin
	g 8th of may we welcome three bands that will give\nyou the right soundtra
	ck to curse partriarchy:\n\nSHIMMER - Tie together our sadness and anger -
	 Post Hardcore\nMARKxFASTER - Destroy! - Powerviolence\nSTERBEN - Curse th
	em to death - Black Metal Crust\n\nThe concert Room will be smoke-free and
	 is sadly not accessible for wheelchairs.
URL:https://events.kassel.social/event/sterben-markxfaster-shimmer
LOCATION:ask a punk - ask a punk
STATUS:CONFIRMED
CATEGORIES:diy,hardcore punk,berlin,powerviolence,crust,post-hardcore,post-
	black metal,black metal punk
X-ALT-DESC;FMTTYPE=text/html:<p>Formed in a mysterious, dark and magical ni
	ght in one of Berlin‘s many crypts, this idea was born: We have to reclaim
	 the crypts that were taken away from us! So many of our vaults have alrea
	dy been evicted and stolen by relentless brutal forces. The ones that are 
	left shall not remain in the hands of shady men! The witches strike back! 
	May their coven thrive and find many more fellow witches.</p><p>For this e
	nchanted gathering 8th of may we welcome three bands that will give you th
	e right soundtrack to curse partriarchy:</p><p>SHIMMER - Tie together our 
	sadness and anger - Post Hardcore<br>MARKxFASTER - Destroy! - Powerviolenc
	e<br>STERBEN - Curse them to death - Black Metal Crust</p><p>The concert R
	oom will be smoke-free and is sadly not accessible for wheelchairs.</p>
BEGIN:VALARM
ACTION:DISPLAY
DESCRIPTION:STERBEN + MARKxFASTER + SHIMMER
TRIGGER:-PT1H
END:VALARM
END:VEVENT
END:VCALENDAR
