BEGIN:VCALENDAR
VERSION:2.0
CALSCALE:GREGORIAN
PRODID:adamgibbons/ics
METHOD:PUBLISH
X-PUBLISHED-TTL:PT1H
BEGIN:VEVENT
UID:4200@events.kassel.social
SUMMARY:Sheev (progressive stoner metal) / Incijam (psychedelic rock)
DTSTAMP:20260421T154516Z
DTSTART:20260423T170000Z
DTEND:20260423T213000Z
DESCRIPTION:Sheev is a Berlin-based foursome forging progressive and heavy 
	stoner music\nsince 2017. Their sound is a distinctive fusion of complex c
	ompositions\, heavy\,\nheadbang-worthy riffs\, captivating vocals\, and in
	tricate arrangements that push\nthe boundaries of modern progressive stone
	r metal.\n\nThe band members bring together a wealth of musical experience
	 that shapes\nSheev’s genre-bending approach\, seamlessly combining elemen
	ts of stoner\, grunge\,\nand progressive metal into a sound that feels bot
	h classic and cutting-edge.\n\nWith a relentless drive to innovate while h
	onoring their stoner and progressive\nmetal roots\, Sheev continues to pus
	h the boundaries of their genre\, captivating\naudiences worldwide with mu
	sic that is as complex as it is powerful.\n\nBandcamp: https://sheev.bandc
	amp.com/album/ates-alchemist\n[https://sheev.bandcamp.com/album/ates-alche
	mist]\n\nIncijam - psychedelic rock from Berlin — heavy\, hypnotic\, and b
	oundary-blurring.\nWhere prog meets stoner and global roots fuel the trip.
	 Formed by musicians from\nacross the world\, the band channels a rich ble
	nd of cultural influences into a\nsingle sonic journey. Folk melodies weav
	e through the sound\, evoking the feeling\nof a mythic\, otherworldly voya
	ge. Each track unfolds like a story — shifting\,\nimmersive\, and unpredic
	table. Layers of rhythm and texture build a kaleidoscopic\natmosphere that
	 pulls listeners deeper with every minute.\n\nBandcamp: https://incijam.ba
	ndcamp.com/album/incijam\n[https://incijam.bandcamp.com/album/incijam]
URL:https://events.kassel.social/event/sheev-progressive-stoner-metal-incij
	am-psychedelic-rock
LOCATION:Neue Zukunft - Alt-Stralau 68\, 10245 Berlin
STATUS:CONFIRMED
CATEGORIES:heavy psych,psychedelic rock,stoner rock,diy,progressive rock,be
	rlin,stoner metal
X-ALT-DESC;FMTTYPE=text/html:<p>Sheev is a Berlin-based foursome forging pr
	ogressive and heavy stoner music since 2017. Their sound is a distinctive 
	fusion of complex compositions, heavy, headbang-worthy riffs, captivating 
	vocals, and intricate arrangements that push the boundaries of modern prog
	ressive stoner metal.</p><p>The band members bring together a wealth of mu
	sical experience that shapes Sheev’s genre-bending approach, seamlessly co
	mbining elements of stoner, grunge, and progressive metal into a sound tha
	t feels both classic and cutting-edge.</p><p>With a relentless drive to in
	novate while honoring their stoner and progressive metal roots, Sheev cont
	inues to push the boundaries of their genre, captivating audiences worldwi
	de with music that is as complex as it is powerful.  <br><br>Bandcamp: <a 
	href="https://sheev.bandcamp.com/album/ates-alchemist" target="_blank">htt
	ps://sheev.bandcamp.com/album/ates-alchemist</a></p><p>Incijam - psychedel
	ic rock from Berlin — heavy, hypnotic, and boundary-blurring. Where prog m
	eets stoner and global roots fuel the trip. Formed by musicians from acros
	s the world, the band channels a rich blend of cultural influences into a 
	single sonic journey. Folk melodies weave through the sound, evoking the f
	eeling of a mythic, otherworldly voyage. Each track unfolds like a story —
	 shifting, immersive, and unpredictable. Layers of rhythm and texture buil
	d a kaleidoscopic atmosphere that pulls listeners deeper with every minute
	.<br><br>Bandcamp: <a href="https://incijam.bandcamp.com/album/incijam" ta
	rget="_blank">https://incijam.bandcamp.com/album/incijam</a></p>
BEGIN:VALARM
ACTION:DISPLAY
DESCRIPTION:Sheev (progressive stoner metal) / Incijam (psychedelic rock)
TRIGGER:-PT1H
END:VALARM
END:VEVENT
END:VCALENDAR
