BEGIN:VCALENDAR
VERSION:2.0
CALSCALE:GREGORIAN
PRODID:adamgibbons/ics
METHOD:PUBLISH
X-PUBLISHED-TTL:PT1H
BEGIN:VEVENT
UID:4197@events.kassel.social
SUMMARY:… FLIESSENDE ÜBERGÄNGE …
DTSTAMP:20260420T182858Z
DTSTART:20260423T160000Z
DTEND:20260423T200000Z
DESCRIPTION:… Ereignisse fließen zu Flächen zusammen\, fließen auseinander\
	, ineinander\,\nfließen weiter\, sickern in den ausgekohlten Tagebau\, pos
	tindustriell\, verdunsten\nzu Nebel. Erinnerungen versinken\, granulieren 
	zu Sprühnebel. Dunst ballt sich\nzur Projektionsfläche zwischen post-evang
	elischen Mauern. Das Kirchenschiff\nfließt um uns\, in uns und überall\, f
	ließt in Echtzeit und wird nie wieder\, wie\nes eben war …\n\nEs spielen m
	it fließenden Übergängen:\n\n– Emaille (darker House-Ambient\, live)\nhttp
	s://emaille.bandcamp.com/ [https://emaille.bandcamp.com/]\n– Jkube (IDM\, 
	Rap\, D’n’B\, live)\nhttps://www.ectoplastic.com/aboutectoplastic/\n[https
	://www.ectoplastic.com/aboutectoplastic/]\n– Knytl (Breaks\, live)\nhttps:
	//soundcloud.com/knytl [https://soundcloud.com/knytl]\n– Maletas Inteligen
	tes (experimental/dub/drone\, live)\n– Paul Geigerzähler (Geige)\n– Shanno
	n Soundquist (dark Ambient/Noise\, live)\nhttps://antjemeichsner.jimdofree
	.com/ [https://antjemeichsner.jimdofree.com/]\n\n– Live-Visuals von Jana L
	ütkewitte\nhttps://jana-luetkewitte.com/ [https://jana-luetkewitte.com/]
URL:https://events.kassel.social/event/fliessende-ubergange
LOCATION:Galiläakirche - Rigaer Straße 9\, 10247 Berlin
STATUS:CONFIRMED
CATEGORIES:experimental,diy,berlin
X-ALT-DESC;FMTTYPE=text/html:<p><em>… Ereignisse fließen zu Flächen zusamme
	n, fließen auseinander, ineinander, fließen weiter, sickern in den ausgeko
	hlten Tagebau, postindustriell, verdunsten zu Nebel. Erinnerungen versinke
	n, granulieren zu Sprühnebel. Dunst ballt sich zur Projektionsfläche zwisc
	hen post-evangelischen Mauern. Das Kirchenschiff fließt um uns, in uns und
	 überall, fließt in Echtzeit und wird nie wieder, wie es eben war …</em></
	p><p>Es spielen mit fließenden Übergängen:</p><p>– <strong>Emaille</strong
	> (darker House-Ambient, live)<br><a href="https://emaille.bandcamp.com/" 
	target="_blank">https://emaille.bandcamp.com/</a><br>– <strong>Jkube</stro
	ng> (IDM, Rap, D’n’B, live)<br><a href="https://www.ectoplastic.com/aboute
	ctoplastic/" target="_blank">https://www.ectoplastic.com/aboutectoplastic/
	</a><br>– <strong>Knytl </strong>(Breaks, live)<br><a href="https://soundc
	loud.com/knytl" target="_blank">https://soundcloud.com/knytl</a><br>– <str
	ong>Maletas Inteligentes</strong> (experimental/dub/drone, live)<br>– <str
	ong>Paul Geigerzähler</strong> (Geige)<br>– <strong>Shannon Soundquist</st
	rong> (dark Ambient/Noise, live)<br><a href="https://antjemeichsner.jimdof
	ree.com/" target="_blank">https://antjemeichsner.jimdofree.com/</a></p><p>
	– Live-Visuals von <strong>Jana Lütkewitte</strong><br><a href="https://ja
	na-luetkewitte.com/" target="_blank">https://jana-luetkewitte.com/</a></p>
BEGIN:VALARM
ACTION:DISPLAY
DESCRIPTION:… FLIESSENDE ÜBERGÄNGE …
TRIGGER:-PT1H
END:VALARM
END:VEVENT
END:VCALENDAR
