BEGIN:VCALENDAR
VERSION:2.0
CALSCALE:GREGORIAN
PRODID:adamgibbons/ics
METHOD:PUBLISH
X-PUBLISHED-TTL:PT1H
BEGIN:VEVENT
UID:4175@events.kassel.social
SUMMARY:Aktionstag der Feuerwehr\, Motorsportclub und Kreisverkehrswacht
DTSTAMP:20260421T081107Z
DTSTART:20260426T080000Z
DTEND:20260426T150000Z
DESCRIPTION:Der Motorsportclub Heidelberg-Kirchheim veranstaltet am 26. Apr
	il zusammen mit\nder Freiwilligen Feuerwehr und der Kreisverkehrswacht (KV
	W) einen Aktionstag.\n\nThema auf dem Verkehrsübungsplatz ist die E-Mobili
	tät sowie die Sicherheit im\nStraßenverkehr. Hierbei können E-Fahrräder\, 
	E-Lastenfahrräder\, E-Motorräder\nsowie E-Autos besichtigt und teilweise a
	uch Probe gefahren werden. Der\nMotorsportclub veranstaltet einen ADAC-Mot
	orrad- und Quadslalom\, siehe\nKurzausschreibung\n[https://www.msc-heidelb
	erg-kirchheim.de/wp-content/uploads/2026/04/Motorradslalom-2026-Kurz-Aussc
	hreibung.pdf]\nund stellt Aktivitäten im Jugendkart- und Motorradbereich v
	or.\n\nAuf dem Verkehrsübungsplatz können Besucher ihr Fahrrad bei einem\n
	Sicherheitscheck prüfen und codieren lassen\, beides ist kostenfrei.\n\nDi
	e Freiwillige Feuerwehr stellt parallel auf ihrem Gelände und der\nPleikar
	tsförster Straße diverse Fahrzeuge vor und zeigt Löscharbeiten hautnah.\nF
	ür Kinder gibt es ein vielseitiges Angebot\, das auch zum Herumtollen einl
	ädt.\n\nFür Speisen und Getränke ist bestens gesorgt.
URL:https://events.kassel.social/event/aktionstag-der-feuerwehr-motorsportc
	lub-und-kreisverkehrswacht
GEO:49.3864956;8.663923724640803
LOCATION:114 Pleikartsförster Straße - 114 Pleikartsförster Straße\, Heidel
	berg\, Baden-Württemberg\, Deutschland
STATUS:CONFIRMED
CATEGORIES:Feuerwehr,Verkehrswacht,Motorsport,Motorrad,Quad,Motorsportclub,
	ADAC
X-ALT-DESC;FMTTYPE=text/html:<p>Der Motorsportclub Heidelberg-Kirchheim ver
	anstaltet am 26. April zusammen mit der Freiwilligen Feuerwehr und der Kre
	isverkehrswacht (KVW) einen Aktionstag.</p><p>Thema auf dem Verkehrsübungs
	platz ist die E-Mobilität sowie die Sicherheit im Straßenverkehr. Hierbei 
	können E-Fahrräder, E-Lastenfahrräder, E-Motorräder sowie E-Autos besichti
	gt und teilweise auch Probe gefahren werden. Der Motorsportclub veranstalt
	et einen ADAC-Motorrad- und Quadslalom, siehe <a target="_blank" href="htt
	ps://www.msc-heidelberg-kirchheim.de/wp-content/uploads/2026/04/Motorradsl
	alom-2026-Kurz-Ausschreibung.pdf">Kurzausschreibung</a> und stellt Aktivit
	äten im Jugendkart- und Motorradbereich vor.</p><p>Auf dem Verkehrsübungsp
	latz können Besucher ihr Fahrrad bei einem Sicherheitscheck prüfen und cod
	ieren lassen, beides ist kostenfrei.</p><p>Die Freiwillige Feuerwehr stell
	t parallel auf ihrem Gelände und der Pleikartsförster Straße diverse Fahrz
	euge vor und zeigt Löscharbeiten hautnah. Für Kinder gibt es ein vielseiti
	ges Angebot, das auch zum Herumtollen einlädt.</p><p>Für Speisen und Geträ
	nke ist bestens gesorgt.</p>
BEGIN:VALARM
ACTION:DISPLAY
DESCRIPTION:Aktionstag der Feuerwehr, Motorsportclub und Kreisverkehrswacht
TRIGGER:-PT1H
END:VALARM
END:VEVENT
END:VCALENDAR
